BEGIN:VCALENDAR
VERSION:2.0
PRODID:-//BHC - ECPv6.15.17.1//NONSGML v1.0//EN
CALSCALE:GREGORIAN
METHOD:PUBLISH
X-ORIGINAL-URL:https://fotblbhc.org
X-WR-CALDESC:Events for BHC
REFRESH-INTERVAL;VALUE=DURATION:PT1H
X-Robots-Tag:noindex
X-PUBLISHED-TTL:PT1H
BEGIN:VTIMEZONE
TZID:UTC
BEGIN:STANDARD
TZOFFSETFROM:+0000
TZOFFSETTO:+0000
TZNAME:UTC
DTSTART:20210101T000000
END:STANDARD
END:VTIMEZONE
BEGIN:VTIMEZONE
TZID:America/New_York
BEGIN:DAYLIGHT
TZOFFSETFROM:-0500
TZOFFSETTO:-0400
TZNAME:EDT
DTSTART:20210314T070000
END:DAYLIGHT
BEGIN:STANDARD
TZOFFSETFROM:-0400
TZOFFSETTO:-0500
TZNAME:EST
DTSTART:20211107T060000
END:STANDARD
BEGIN:DAYLIGHT
TZOFFSETFROM:-0500
TZOFFSETTO:-0400
TZNAME:EDT
DTSTART:20220313T070000
END:DAYLIGHT
BEGIN:STANDARD
TZOFFSETFROM:-0400
TZOFFSETTO:-0500
TZNAME:EST
DTSTART:20221106T060000
END:STANDARD
BEGIN:DAYLIGHT
TZOFFSETFROM:-0500
TZOFFSETTO:-0400
TZNAME:EDT
DTSTART:20230312T070000
END:DAYLIGHT
BEGIN:STANDARD
TZOFFSETFROM:-0400
TZOFFSETTO:-0500
TZNAME:EST
DTSTART:20231105T060000
END:STANDARD
END:VTIMEZONE
BEGIN:VEVENT
DTSTART;TZID=UTC:20240302T133000
DTEND;TZID=UTC:20240302T163000
DTSTAMP:20260419T130345
CREATED:20240214T143548Z
LAST-MODIFIED:20240214T143636Z
UID:2000-1709386200-1709397000@fotblbhc.org
SUMMARY:Records of Loudoun's Enslaved Community\, 1757 - 1865
DESCRIPTION:Black History Month Program \nExhibition of Court Records on Loudoun's Enslaved Community
URL:https://fotblbhc.org/event/records-of-loudouns-enslaved-community-1757-1865/
LOCATION:1894 Charles Hamilton Houston Courthouse\, 18 East Market Street\, Leesburg\, VA\, 20175\, United States
CATEGORIES:lecture
ATTACH;FMTTYPE=image/png:https://fotblbhc.org/wp-content/uploads/2024/02/garyClemens_Feb2024.png
END:VEVENT
BEGIN:VEVENT
DTSTART;TZID=UTC:20231202T143000
DTEND;TZID=UTC:20231202T170000
DTSTAMP:20260419T130345
CREATED:20231130T153256Z
LAST-MODIFIED:20231130T153256Z
UID:1987-1701527400-1701536400@fotblbhc.org
SUMMARY:Dirt Don't Burn
DESCRIPTION:Program  \n2:30: Welcome Music and Book Signing\nPiano by Alfred Yun\, Loudoun Jazz Society Book signing by Larry Roeder and Barry Harrelson\nOpening\nNeil Steinberg\, Vice Mayor of Leesburg\nOpening Prayer\nTracey B. Lyons\, Mt. Zion United Methodist Church\, Leesburg\nRemarks\nChristopher Brown\, Member of the Board of Directors\, the Edwin Washington Society\nCharles Avery\, President of the Loudoun Douglass Alumni Association\, and Chair of the Douglass Consortium\nIntroduction to the Authors of Dirt Don’t Burn\nKelly Burk\, Mayor of Leesburg\nPresentation on Dirt Don’t Burn\nLarry Roeder and Barry Harrelson\nQuestions and Answers\nLarry Roeder and Barry Harrelson\nClosing Prayer\nTracey B. Lyons\, Mt. Zion United Methodist Church\, Leesburg\n4:30-5:00: Music and Book Signing\nPiano by Alfred Yun\, Loudoun Jazz Society Book signing by Larry Roeder and Barry Harrelson
URL:https://fotblbhc.org/event/dirt-dont-burn/
LOCATION:407 E. Market  Street \, Leesburg\, VA 20176\, 407 E. Market Street\, Leesburg\, VA\, 20176\, United States
CATEGORIES:lecture
ATTACH;FMTTYPE=image/png:https://fotblbhc.org/wp-content/uploads/2023/11/dirtDontBurn_1.png
ORGANIZER;CN="Edwin Washington Project":MAILTO:edwinwashingtonprojects@gmail.com
END:VEVENT
BEGIN:VEVENT
DTSTART;TZID=UTC:20230122T151500
DTEND;TZID=UTC:20230122T184500
DTSTAMP:20260419T130345
CREATED:20230106T152817Z
LAST-MODIFIED:20230106T153050Z
UID:1751-1674400500-1674413100@fotblbhc.org
SUMMARY:The Loudoun County Co-Creating our county event
DESCRIPTION:Join us as we take a trip down a ”Wonderfully Soiled" path where farmers\, ranchers\, agronomists\, economic developers\, academic researchers\, master gardeners\, community/home gardeners and soil health advocates speak to the benefits of understanding the ecosystem of agricultural land matters. We will hear from and get a chance to speak with Farmers\, Lorenzo Gibbs and Doug Fabbioli \, Regenerative Ryan\, Academic researchers\, master gardeners\, a member of the Loudoun Economic Development group\, community gardeners and soil advocates. This conversation will enable a greater awareness as to the importance of agricultural matters.
URL:https://fotblbhc.org/event/loudoun-co-creating-our-county-event/
LOCATION:Franklin Park Arts Center\, 36411 Blueridge View Lane\, Purcellville\, VA\, 20132
CATEGORIES:lecture
ATTACH;FMTTYPE=image/jpeg:https://fotblbhc.org/wp-content/uploads/2023/01/jan22EventFlyer_v3.jpg
END:VEVENT
BEGIN:VEVENT
DTSTART;TZID=UTC:20220216T130000
DTEND;TZID=UTC:20220216T150000
DTSTAMP:20260419T130345
CREATED:20220205T155304Z
LAST-MODIFIED:20220205T155304Z
UID:196-1645016400-1645023600@fotblbhc.org
SUMMARY:Virtual Panel Discussion on Between Freedom and Equality
DESCRIPTION:Between Freedom and Equality begins with the life of Captain George Pointer\, an enslaved African who purchased his freedom in 1793 while working for George Washington’s Potomac Company. It follows six generations of his descendants as they lived and worked on the banks of the Potomac River\, in the port of Georgetown\, and in a rural corner of the nation’s capital.
URL:https://fotblbhc.org/event/virtual-panel-discussion-on-between-freedom-and-equality/
LOCATION:thomas balch library\, 25 West Market Street\, Leesburg\, VA\, 20176\, United States
CATEGORIES:lecture
ATTACH;FMTTYPE=image/png:https://fotblbhc.org/wp-content/uploads/2022/02/libEvent.png
END:VEVENT
BEGIN:VEVENT
DTSTART;TZID=America/New_York:20220126T190000
DTEND;TZID=America/New_York:20220126T210000
DTSTAMP:20260419T130345
CREATED:20220108T132540Z
LAST-MODIFIED:20220108T132540Z
UID:90-1643223600-1643230800@fotblbhc.org
SUMMARY:The Ledger and The Chain
DESCRIPTION:
URL:https://fotblbhc.org/event/the-ledger-and-the-chain/
LOCATION:VA
CATEGORIES:lecture
ATTACH;FMTTYPE=image/jpeg:https://fotblbhc.org/wp-content/uploads/2022/01/bhcLedgerOfTheChain.jpeg
END:VEVENT
BEGIN:VEVENT
DTSTART;TZID=UTC:20220117T130000
DTEND;TZID=UTC:20220117T160000
DTSTAMP:20260419T130345
CREATED:20220108T142500Z
LAST-MODIFIED:20220108T142500Z
UID:104-1642424400-1642435200@fotblbhc.org
SUMMARY:2022 Dr Martin Luther King Jr March and Celebration
DESCRIPTION:
URL:https://fotblbhc.org/event/2022-dr-martin-luther-king-jr-march-and-celebration/
LOCATION:VA
CATEGORIES:festival,lecture
ATTACH;FMTTYPE=image/jpeg:https://fotblbhc.org/wp-content/uploads/2022/01/loudounMLK-Walk_2022.jpg
ORGANIZER;CN="Loudoun Douglass Alumni":MAILTO:themarch08@yahoo.com
END:VEVENT
END:VCALENDAR